BEGIN:VCALENDAR
VERSION:2.0
PRODID:-//https://cc-plateaupicard.fr///NONSGML kigkonsult.se iCalcreator 2.10.15//
METHOD:PUBLISH
BEGIN:VEVENT
UID:20260422T132309CEST-6519WjSX8O@https://cc-plateaupicard.fr/
DTSTAMP:20260422T112309Z
DESCRIPTION: https://cc-plateaupicard.fr/component/rseventspro/evenement/39
 637-brocante-domfront?Itemid=412
DTSTART;VALUE=DATE:20260517
LOCATION:Domfront (60420 Domfront\, France)
SUMMARY:Brocante Domfront
URL:https://cc-plateaupicard.fr/component/rseventspro/evenement/39637-broca
 nte-domfront?Itemid=412
END:VEVENT
END:VCALENDAR
