BEGIN:VCALENDAR
VERSION:2.0
PRODID:-//https://cc-plateaupicard.fr///NONSGML kigkonsult.se iCalcreator 2.10.15//
METHOD:PUBLISH
BEGIN:VEVENT
UID:20260422T121055CEST-9749a4bUbU@https://cc-plateaupicard.fr/
DTSTAMP:20260422T101055Z
DESCRIPTION:Brocante place des fêtes de Tricot\nDe 6h30 à 18h30\nRestaurati
 on sur place\nRenseignements linarda@orange.fr https://cc-plateaupicard.fr
 /component/rseventspro/evenement/40033-brocante?Itemid=412
DTSTART:20260501T043005Z
DTEND:20260501T170005Z
LOCATION:Tricot (60420 Tricot\, France)
SUMMARY:Brocante
URL:https://cc-plateaupicard.fr/component/rseventspro/evenement/40033-broca
 nte?Itemid=412
END:VEVENT
END:VCALENDAR
