BEGIN:VCALENDAR
VERSION:2.0
PRODID:-//https://cc-plateaupicard.fr///NONSGML kigkonsult.se iCalcreator 2.10.15//
METHOD:PUBLISH
BEGIN:VEVENT
UID:20260420T150458CEST-74412eCO9P@https://cc-plateaupicard.fr/
DTSTAMP:20260420T130458Z
DESCRIPTION:🚨 Enquête à la Maison des Chars\n⚠️ Le scénario a été inventé p
 our ce jeu !\n🗓️ Lundi 20 Avril 🕰️ A partir de 14h\n🚔 Venez menez l'enquêt
 e : regroupez les indices\, analysez les preuves\, faites-vous votre propr
 e opinion sur les suspects afin de démasquer le coupable !\n➡️ Un jeu imme
 rsif à partir de 7 ans 👛 10€/ adulte et 5€/enfants +7ans📌 Maison des Chars
 \, Courcelles-Epayelles (60)☎️ Inscription obligatoire au : 06 44 32 90 61
  ⚠️ Places limitées https://cc-plateaupicard.fr/component/rseventspro/even
 ement/40608-enquete-fictive-a-la-maison-des-chars?Itemid=412
DTSTART:20260420T120000Z
DTEND:20260420T161350Z
LOCATION:Courcelles-Epayelles (60420 Courcelles-Epayelles\, France)
SUMMARY:Enquête fictive à la Maison des Chars 
URL:https://cc-plateaupicard.fr/component/rseventspro/evenement/40608-enque
 te-fictive-a-la-maison-des-chars?Itemid=412
END:VEVENT
END:VCALENDAR
