BEGIN:VCALENDAR
VERSION:2.0
PRODID:-//https://cc-plateaupicard.fr///NONSGML kigkonsult.se iCalcreator 2.10.15//
METHOD:PUBLISH
BEGIN:VEVENT
UID:20260425T161848CEST-2007Vt6alV@https://cc-plateaupicard.fr/
DTSTAMP:20260425T141848Z
DESCRIPTION: https://cc-plateaupicard.fr/component/rseventspro/evenement/40
 733-la-fete-de-la-fleur?Itemid=412
DTSTART:20200510T100000Z
DTEND:20260510T180000Z
LOCATION:Lieu La Fête de la Fleur (Parc Rue Pierre Durosoy 60130 LIEUVILLER
 S)
SUMMARY:La Fête de la Fleur
URL:https://cc-plateaupicard.fr/component/rseventspro/evenement/40733-la-fe
 te-de-la-fleur?Itemid=412
END:VEVENT
END:VCALENDAR
